{
 "currentVersion": 10.51,
 "serviceDescription": "Raster_clima/Xavier_UR_Anual",
 "name": "Raster_clima/Xavier_UR_Anual",
 "description": "Raster_clima/Xavier_UR_Anual",
 "extent": {
  "xmin": -53.8368638573633,
  "ymin": -29.3548140084176,
  "xmax": -48.328750857363296,
  "ymax": -25.954950008417597,
  "spatialReference": {
   "wkt": "GEOGCS[\"GCS_SIRGAS_2000\",DATUM[\"D_SIRGAS2000\",SPHEROID[\"Geodetic_Reference_System_of_1980\",6378137.0,298.2572221009113]],PRIMEM[\"Greenwich\",0.0],UNIT[\"Degree\",0.0174532925199433]]"
  }
 },
 "initialExtent": {
  "xmin": -53.8368638573633,
  "ymin": -29.3548140084176,
  "xmax": -48.328750857363296,
  "ymax": -25.954950008417597,
  "spatialReference": {
   "wkt": "GEOGCS[\"GCS_SIRGAS_2000\",DATUM[\"D_SIRGAS2000\",SPHEROID[\"Geodetic_Reference_System_of_1980\",6378137.0,298.2572221009113]],PRIMEM[\"Greenwich\",0.0],UNIT[\"Degree\",0.0174532925199433]]"
  }
 },
 "fullExtent": {
  "xmin": -53.8368638573633,
  "ymin": -29.3548140084176,
  "xmax": -48.328750857363296,
  "ymax": -25.954950008417597,
  "spatialReference": {
   "wkt": "GEOGCS[\"GCS_SIRGAS_2000\",DATUM[\"D_SIRGAS2000\",SPHEROID[\"Geodetic_Reference_System_of_1980\",6378137.0,298.2572221009113]],PRIMEM[\"Greenwich\",0.0],UNIT[\"Degree\",0.0174532925199433]]"
  }
 },
 "heightModelInfo": {
  "heightModel": "orthometric",
  "heightUnit": "meter"
 },
 "pixelSizeX": 0.008333000000000002,
 "pixelSizeY": 0.008333000000000002,
 "bandCount": 1,
 "pixelType": "F32",
 "minPixelSize": 0,
 "maxPixelSize": 0,
 "copyrightText": "",
 "serviceDataType": "esriImageServiceDataTypeGeneric",
 "minValues": [
  74.000770568848
 ],
 "maxValues": [
  83.044540405273
 ],
 "meanValues": [
  79.281789951262
 ],
 "stdvValues": [
  2.5771607378672
 ],
 "objectIdField": "",
 "fields": [],
 "capabilities": "Image,Metadata,Mensuration",
 "defaultMosaicMethod": "Center",
 "allowedMosaicMethods": "",
 "sortField": "",
 "sortValue": null,
 "mosaicOperator": "First",
 "defaultCompressionQuality": 75,
 "defaultResamplingMethod": "Bilinear",
 "maxImageHeight": 4100,
 "maxImageWidth": 15000,
 "allowRasterFunction": true,
 "rasterFunctionInfos": [
  {
   "name": "None",
   "description": "",
   "help": ""
  }
 ],
 "rasterTypeInfos": [
  {
   "name": "Raster Dataset",
   "description": "Supports all ArcGIS Raster Datasets",
   "help": ""
  }
 ],
 "mensurationCapabilities": "Basic",
 "hasHistograms": true,
 "hasColormap": false,
 "hasRasterAttributeTable": false,
 "minScale": 0,
 "maxScale": 0,
 "exportTilesAllowed": false,
 "hasMultidimensions": false,
 "supportsStatistics": false,
 "supportsAdvancedQueries": false,
 "editFieldsInfo": null,
 "ownershipBasedAccessControlForRasters": null,
 "allowComputeTiePoints": false,
 "useStandardizedQueries": true,
 "advancedQueryCapabilities": {
  "useStandardizedQueries": true,
  "supportsStatistics": false,
  "supportsOrderBy": false,
  "supportsDistinct": false,
  "supportsPagination": false
 },
 "spatialReference": {
  "wkt": "GEOGCS[\"GCS_SIRGAS_2000\",DATUM[\"D_SIRGAS2000\",SPHEROID[\"Geodetic_Reference_System_of_1980\",6378137.0,298.2572221009113]],PRIMEM[\"Greenwich\",0.0],UNIT[\"Degree\",0.0174532925199433]]"
 }
}
