View In:
ArcGIS JavaScript
ArcGIS Online map viewer
Google Earth
ArcMap
View Footprint In:
ArcGIS Online map viewer
Service Description: Raster_temas/ndvi_mean_anual
Name: Raster_temas/ndvi_mean_anual
Description: Raster_temas/ndvi_mean_anual
Single Fused Map Cache: false
Extent:
XMin: -53.91558808656115
YMin: -29.37351145047927
XMax: -48.27413886578432
YMax: -25.92815924608653
Spatial Reference: 4674
(4674)
Initial Extent:
XMin: -53.91558808656115
YMin: -29.37351145047927
XMax: -48.27413886578432
YMax: -25.92815924608653
Spatial Reference: 4674
(4674)
Full Extent:
XMin: -53.91558808656115
YMin: -29.37351145047927
XMax: -48.27413886578432
YMax: -25.92815924608653
Spatial Reference: 4674
(4674)
Pixel Size X: 0.0018000795216263012
Pixel Size Y: 0.0018000795216263014
Band Count: 1
Pixel Type: F32
RasterFunction Infos: {"name":"None","description":"","help":""}
Mensuration Capabilities: Basic
Has Histograms: true
Has Colormap: false
Has Multi Dimensions : false
Rendering Rule:
Min Scale: 0
Max Scale: 0
Copyright Text:
Service Data Type: esriImageServiceDataTypeGeneric
Min Values: 0
Max Values: 90.586807250977
Mean Values: 75.22197826156
Standard Deviation Values: 8.7589401578934
Object ID Field:
Fields:
None
Default Mosaic Method: Center
Allowed Mosaic Methods:
SortField:
SortValue: null
Mosaic Operator: First
Default Compression Quality: 75
Default Resampling Method: Bilinear
Max Record Count: null
Max Image Height: 4100
Max Image Width: 15000
Max Download Image Count: null
Max Mosaic Image Count: null
Allow Raster Function: true
Allow Compute TiePoints: false
Supports Statistics: false
Supports Advanced Queries: false
Use StandardizedQueries: true
Raster Type Infos:
Name: Raster Dataset
Description: Supports all ArcGIS Raster Datasets
Help:
Has Raster Attribute Table: false
Edit Fields Info: null
Ownership Based AccessControl For Rasters: null
Child Resources:
Info
Histograms
Key Properties
Legend
MultiDimensionalInfo
rasterFunctionInfos
Supported Operations:
Export Image
Identify
Measure
Compute Histograms
Compute Statistics Histograms
Get Samples
Compute Class Statistics