View In:
ArcGIS JavaScript
ArcGIS Online map viewer
Google Earth
ArcMap
View Footprint In:
ArcGIS Online map viewer
Service Description: Zoneamento/poten_truta
Name: Zoneamento/poten_truta
Description: Zoneamento/poten_truta
Single Fused Map Cache: false
Extent:
XMin: -53.857210261410664
YMin: -29.36397045346212
XMax: -48.32784167734115
YMax: -25.943113395494233
Spatial Reference: 4674
(4674)
Initial Extent:
XMin: -53.857210261410664
YMin: -29.36397045346212
XMax: -48.32784167734115
YMax: -25.943113395494233
Spatial Reference: 4674
(4674)
Full Extent:
XMin: -53.857210261410664
YMin: -29.36397045346212
XMax: -48.32784167734115
YMax: -25.943113395494233
Spatial Reference: 4674
(4674)
Pixel Size X: 1.2131128968998499E-4
Pixel Size Y: 1.2131128968998498E-4
Band Count: 1
Pixel Type: F32
RasterFunction Infos: {"name":"None","description":"","help":""}
Mensuration Capabilities: Basic
Has Histograms: true
Has Colormap: false
Has Multi Dimensions : false
Rendering Rule:
Min Scale: 0
Max Scale: 0
Copyright Text:
Service Data Type: esriImageServiceDataTypeGeneric
Min Values: 0
Max Values: 0.75999999046326
Mean Values: 0.19546240493495
Standard Deviation Values: 0.16223866986544
Object ID Field:
Fields:
None
Default Mosaic Method: Center
Allowed Mosaic Methods:
SortField:
SortValue: null
Mosaic Operator: First
Default Compression Quality: 75
Default Resampling Method: Bilinear
Max Record Count: null
Max Image Height: 4100
Max Image Width: 15000
Max Download Image Count: null
Max Mosaic Image Count: null
Allow Raster Function: true
Allow Compute TiePoints: false
Supports Statistics: false
Supports Advanced Queries: false
Use StandardizedQueries: true
Raster Type Infos:
Name: Raster Dataset
Description: Supports all ArcGIS Raster Datasets
Help:
Has Raster Attribute Table: false
Edit Fields Info: null
Ownership Based AccessControl For Rasters: null
Child Resources:
Info
Histograms
Key Properties
Legend
MultiDimensionalInfo
rasterFunctionInfos
Supported Operations:
Export Image
Identify
Measure
Compute Histograms
Compute Statistics Histograms
Get Samples
Compute Class Statistics