View In:
ArcGIS JavaScript
ArcGIS Online map viewer
Google Earth
ArcMap
View Footprint In:
ArcGIS Online map viewer
Service Description: Zoneamento/risco_clima_euter_eduli
Name: Zoneamento/risco_clima_euter_eduli
Description: Zoneamento/risco_clima_euter_eduli
Single Fused Map Cache: false
Extent:
XMin: -53.83715866299997
YMin: -29.35234310499993
XMax: -48.32884334707657
YMax: -25.952354226184884
Spatial Reference: 4674
(4674)
Initial Extent:
XMin: -53.83715866299997
YMin: -29.35234310499993
XMax: -48.32884334707657
YMax: -25.952354226184884
Spatial Reference: 4674
(4674)
Full Extent:
XMin: -53.83715866299997
YMin: -29.35234310499993
XMax: -48.32884334707657
YMax: -25.952354226184884
Spatial Reference: 4674
(4674)
Pixel Size X: 0.008333306075527076
Pixel Size Y: 0.008333306075527078
Band Count: 1
Pixel Type: U16
RasterFunction Infos: {"name":"None","description":"","help":""}
Mensuration Capabilities: Basic
Has Histograms: true
Has Colormap: false
Has Multi Dimensions : false
Rendering Rule:
Min Scale: 0
Max Scale: 0
Copyright Text:
Service Data Type: esriImageServiceDataTypeThematic
Min Values: 0
Max Values: 65535
Mean Values: 35728.064763727
Standard Deviation Values: 32633.238830266
Object ID Field:
Fields:
None
Default Mosaic Method: Center
Allowed Mosaic Methods:
SortField:
SortValue: null
Mosaic Operator: First
Default Compression Quality: 75
Default Resampling Method: Bilinear
Max Record Count: null
Max Image Height: 4100
Max Image Width: 15000
Max Download Image Count: null
Max Mosaic Image Count: null
Allow Raster Function: true
Allow Compute TiePoints: false
Supports Statistics: false
Supports Advanced Queries: false
Use StandardizedQueries: true
Raster Type Infos:
Name: Raster Dataset
Description: Supports all ArcGIS Raster Datasets
Help:
Has Raster Attribute Table: true
Edit Fields Info: null
Ownership Based AccessControl For Rasters: null
Child Resources:
Info
Raster Attribute Table
Histograms
Key Properties
Legend
MultiDimensionalInfo
rasterFunctionInfos
Supported Operations:
Export Image
Identify
Measure
Compute Histograms
Compute Statistics Histograms
Get Samples
Compute Class Statistics