View In:
ArcGIS JavaScript
ArcGIS Online map viewer
Google Earth
ArcMap
View Footprint In:
ArcGIS Online map viewer
Service Description: Raster_clima/Xavier_UR_Anual
Name: Raster_clima/Xavier_UR_Anual
Description: Raster_clima/Xavier_UR_Anual
Single Fused Map Cache: false
Extent:
XMin: -53.8368638573633
YMin: -29.3548140084176
XMax: -48.328750857363296
YMax: -25.954950008417597
Spatial Reference: GEOGCS["GCS_SIRGAS_2000",DATUM["D_SIRGAS2000",SPHEROID["Geodetic_Reference_System_of_1980",6378137.0,298.2572221009113]],PRIMEM["Greenwich",0.0],UNIT["Degree",0.0174532925199433]]
Initial Extent:
XMin: -53.8368638573633
YMin: -29.3548140084176
XMax: -48.328750857363296
YMax: -25.954950008417597
Spatial Reference: GEOGCS["GCS_SIRGAS_2000",DATUM["D_SIRGAS2000",SPHEROID["Geodetic_Reference_System_of_1980",6378137.0,298.2572221009113]],PRIMEM["Greenwich",0.0],UNIT["Degree",0.0174532925199433]]
Full Extent:
XMin: -53.8368638573633
YMin: -29.3548140084176
XMax: -48.328750857363296
YMax: -25.954950008417597
Spatial Reference: GEOGCS["GCS_SIRGAS_2000",DATUM["D_SIRGAS2000",SPHEROID["Geodetic_Reference_System_of_1980",6378137.0,298.2572221009113]],PRIMEM["Greenwich",0.0],UNIT["Degree",0.0174532925199433]]
Pixel Size X: 0.008333000000000002
Pixel Size Y: 0.008333000000000002
Band Count: 1
Pixel Type: F32
RasterFunction Infos: {"name":"None","description":"","help":""}
Mensuration Capabilities: Basic
Has Histograms: true
Has Colormap: false
Has Multi Dimensions : false
Rendering Rule:
Min Scale: 0
Max Scale: 0
Copyright Text:
Service Data Type: esriImageServiceDataTypeGeneric
Min Values: 74.000770568848
Max Values: 83.044540405273
Mean Values: 79.281789951262
Standard Deviation Values: 2.5771607378672
Object ID Field:
Fields:
None
Default Mosaic Method: Center
Allowed Mosaic Methods:
SortField:
SortValue: null
Mosaic Operator: First
Default Compression Quality: 75
Default Resampling Method: Bilinear
Max Record Count: null
Max Image Height: 4100
Max Image Width: 15000
Max Download Image Count: null
Max Mosaic Image Count: null
Allow Raster Function: true
Allow Compute TiePoints: false
Supports Statistics: false
Supports Advanced Queries: false
Use StandardizedQueries: true
Raster Type Infos:
Name: Raster Dataset
Description: Supports all ArcGIS Raster Datasets
Help:
Has Raster Attribute Table: false
Edit Fields Info: null
Ownership Based AccessControl For Rasters: null
Child Resources:
Info
Histograms
Key Properties
Legend
MultiDimensionalInfo
rasterFunctionInfos
Supported Operations:
Export Image
Identify
Measure
Compute Histograms
Compute Statistics Histograms
Get Samples
Compute Class Statistics